BEGIN:VCALENDAR
VERSION:2.0
PRODID:icalendar-ruby
CALSCALE:GREGORIAN
METHOD:PUBLISH
BEGIN:VEVENT
DTSTAMP:20260422T160608Z
UID:382-148453@stbartsmb.ca
DTSTART:20260426T153000Z
DTEND:20260426T170000Z
CLASS:PUBLIC
CREATED:20260410T124355
DESCRIPTION:
LAST-MODIFIED:20260410T124355
LOCATION:
SUMMARY:Sunday Worship Service
URL;VALUE=URI:https://www.stbartsmb.ca/events/sunday-worship-service--382/2
 026-04-26
ATTACH;FILENAME=4-Easter-2.jpg;FMTTYPE=image/jpeg:https://dq5pwpg1q8ru0.clo
 udfront.net/2026/04/10/17/43/55/29a4ff62-90c1-405b-ab67-56ec6eca1cf8/4-Eas
 ter-2.jpg
END:VEVENT
END:VCALENDAR
